BEGIN:VCALENDAR
VERSION:2.0
PRODID:-//Plone.org//NONSGML plone.app.event//EN
X-WR-TIMEZONE:Europe/London
BEGIN:VEVENT
SUMMARY:YPI National Event Perth Concert Hall
DTSTART;VALUE=DATE:20260610
DTEND;VALUE=DATE:20260611
DTSTAMP;VALUE=DATE-TIME:20260425T195222Z
UID:92ea137796404384b6e6d28d9198e700@st-pauls.ea.dundeecity.sch.uk
CREATED;VALUE=DATE-TIME:20250520T110619Z
LAST-MODIFIED;VALUE=DATE-TIME:20250520T110623Z
URL:http://st-pauls.ea.dundeecity.sch.uk/ypi-national-event-perth-concert-
 hall
END:VEVENT
END:VCALENDAR
