BEGIN:VCALENDAR
VERSION:2.0
PRODID:-//Plone.org//NONSGML plone.app.event//EN
X-WR-TIMEZONE:Europe/London
BEGIN:VEVENT
SUMMARY:S3 Work Experience
DTSTART;VALUE=DATE:20260525
DTEND;VALUE=DATE:20260530
DTSTAMP;VALUE=DATE-TIME:20260425T181520Z
UID:40348ef504e5495ba1e05b0daab35c24@st-pauls.ea.dundeecity.sch.uk
CREATED;VALUE=DATE-TIME:20260209T134617Z
LAST-MODIFIED;VALUE=DATE-TIME:20260209T134803Z
URL:http://st-pauls.ea.dundeecity.sch.uk/work-experience
END:VEVENT
END:VCALENDAR
