BEGIN:VCALENDAR
VERSION:2.0
PRODID:-//Plone.org//NONSGML plone.app.event//EN
X-WR-TIMEZONE:Europe/London
BEGIN:VEVENT
SUMMARY:Victoria Day
DTSTART;VALUE=DATE:20260525
DTEND;VALUE=DATE:20260526
DTSTAMP;VALUE=DATE-TIME:20260425T182557Z
UID:d54eb35cca41464c86e42a3c067f4291@st-pauls.ea.dundeecity.sch.uk
CREATED;VALUE=DATE-TIME:20250520T105942Z
LAST-MODIFIED;VALUE=DATE-TIME:20250520T105945Z
URL:http://st-pauls.ea.dundeecity.sch.uk/victoria-day-2
END:VEVENT
END:VCALENDAR
