BEGIN:VCALENDAR
VERSION:2.0
PRODID:-//Plone.org//NONSGML plone.app.event//EN
X-WR-TIMEZONE:Europe/London
BEGIN:VEVENT
SUMMARY:Summer Concert
DTSTART;TZID=Europe/London;VALUE=DATE-TIME:20260618T190000
DTEND;TZID=Europe/London;VALUE=DATE-TIME:20260618T210000
DTSTAMP;VALUE=DATE-TIME:20260425T195814Z
UID:8975c87b04be40aea52d4ac921ed9c6c@st-pauls.ea.dundeecity.sch.uk
CREATED;VALUE=DATE-TIME:20250520T111004Z
LAST-MODIFIED;VALUE=DATE-TIME:20250520T111012Z
URL:http://st-pauls.ea.dundeecity.sch.uk/summer-concert-1
END:VEVENT
BEGIN:VTIMEZONE
TZID:Europe/London
X-LIC-LOCATION:Europe/London
BEGIN:DAYLIGHT
DTSTART;VALUE=DATE-TIME:20260329T020000
TZNAME:BST
TZOFFSETFROM:+0000
TZOFFSETTO:+0100
END:DAYLIGHT
END:VTIMEZONE
END:VCALENDAR
