BEGIN:VCALENDAR
VERSION:2.0
PRODID:-//Plone.org//NONSGML plone.app.event//EN
X-WR-TIMEZONE:Europe/London
BEGIN:VEVENT
SUMMARY:Start of Term 3
DTSTART;VALUE=DATE:20260107
DTEND;VALUE=DATE:20260108
DTSTAMP;VALUE=DATE-TIME:20260425T212959Z
UID:46e3ed16b34b48759f1d0e671a43ce62@st-pauls.ea.dundeecity.sch.uk
CREATED;VALUE=DATE-TIME:20250520T102300Z
LAST-MODIFIED;VALUE=DATE-TIME:20250520T102326Z
URL:http://st-pauls.ea.dundeecity.sch.uk/start-of-term-3
END:VEVENT
END:VCALENDAR
