BEGIN:VCALENDAR
VERSION:2.0
PRODID:-//Plone.org//NONSGML plone.app.event//EN
X-WR-TIMEZONE:Europe/London
BEGIN:VEVENT
SUMMARY:St Columba's Day
DTSTART;VALUE=DATE:20260609
DTEND;VALUE=DATE:20260610
DTSTAMP;VALUE=DATE-TIME:20260425T195700Z
UID:221f59b734754cf5bee7a6bb0eca7327@st-pauls.ea.dundeecity.sch.uk
CREATED;VALUE=DATE-TIME:20250520T110533Z
LAST-MODIFIED;VALUE=DATE-TIME:20250520T110540Z
URL:http://st-pauls.ea.dundeecity.sch.uk/st-columbas-day-1
END:VEVENT
END:VCALENDAR
