BEGIN:VCALENDAR
VERSION:2.0
PRODID:-//Plone.org//NONSGML plone.app.event//EN
X-WR-TIMEZONE:Europe/London
BEGIN:VEVENT
SUMMARY:SQA Exams End To Be Confirmed
DTSTART;VALUE=DATE:20260529
DTEND;VALUE=DATE:20260530
DTSTAMP;VALUE=DATE-TIME:20260425T182729Z
UID:5828d04afc734bda83fe31e4e9ab1d19@st-pauls.ea.dundeecity.sch.uk
CREATED;VALUE=DATE-TIME:20250520T110148Z
LAST-MODIFIED;VALUE=DATE-TIME:20250520T110159Z
URL:http://st-pauls.ea.dundeecity.sch.uk/sqa-exams-end-to-be-confirmed
END:VEVENT
END:VCALENDAR
