BEGIN:VCALENDAR
VERSION:2.0
PRODID:-//Plone.org//NONSGML plone.app.event//EN
X-WR-TIMEZONE:Europe/London
BEGIN:VEVENT
SUMMARY:Senior phase Learning & Achievement Meetings
DTSTART;VALUE=DATE:20260302
DTEND;VALUE=DATE:20260314
DTSTAMP;VALUE=DATE-TIME:20260425T184053Z
UID:e5b52e78a2c4405da12fcc42318e0556@st-pauls.ea.dundeecity.sch.uk
CREATED;VALUE=DATE-TIME:20230621T083822Z
LAST-MODIFIED;VALUE=DATE-TIME:20250520T104503Z
URL:http://st-pauls.ea.dundeecity.sch.uk/senior-phase-learning-achievement
 -1
END:VEVENT
END:VCALENDAR
