BEGIN:VCALENDAR
VERSION:2.0
PRODID:-//Plone.org//NONSGML plone.app.event//EN
X-WR-TIMEZONE:Europe/London
BEGIN:VEVENT
SUMMARY:Senior Induction
DTSTART;VALUE=DATE:20260615
DTEND;VALUE=DATE:20260616
DTSTAMP;VALUE=DATE-TIME:20260425T195630Z
UID:faa2470178cd40c5a2fb3d9d68531fc0@st-pauls.ea.dundeecity.sch.uk
CREATED;VALUE=DATE-TIME:20250520T110909Z
LAST-MODIFIED;VALUE=DATE-TIME:20250520T110913Z
URL:http://st-pauls.ea.dundeecity.sch.uk/senior-induction
END:VEVENT
END:VCALENDAR
