BEGIN:VCALENDAR
VERSION:2.0
PRODID:-//Plone.org//NONSGML plone.app.event//EN
X-WR-TIMEZONE:Europe/London
BEGIN:VEVENT
SUMMARY:Senior Full Report
DTSTART;VALUE=DATE:20260304
DTEND;VALUE=DATE:20260305
DTSTAMP;VALUE=DATE-TIME:20260425T184036Z
UID:6088d0be58cb40cd909384f3ddc5f7e8@st-pauls.ea.dundeecity.sch.uk
CREATED;VALUE=DATE-TIME:20250520T082448Z
LAST-MODIFIED;VALUE=DATE-TIME:20250520T082455Z
URL:http://st-pauls.ea.dundeecity.sch.uk/senior-full-report
END:VEVENT
END:VCALENDAR
