BEGIN:VCALENDAR
VERSION:2.0
PRODID:-//Plone.org//NONSGML plone.app.event//EN
X-WR-TIMEZONE:Europe/London
BEGIN:VEVENT
SUMMARY:S6 Dance Invercarse
DTSTART;TZID=Europe/London;VALUE=DATE-TIME:20260612T190000
DTEND;TZID=Europe/London;VALUE=DATE-TIME:20260612T235500
DTSTAMP;VALUE=DATE-TIME:20260425T195518Z
UID:7dbec127127d4bddb9b9c439067d7778@st-pauls.ea.dundeecity.sch.uk
CREATED;VALUE=DATE-TIME:20250520T110804Z
LAST-MODIFIED;VALUE=DATE-TIME:20250520T110827Z
URL:http://st-pauls.ea.dundeecity.sch.uk/s6-dance-invercarse
END:VEVENT
BEGIN:VTIMEZONE
TZID:Europe/London
X-LIC-LOCATION:Europe/London
BEGIN:DAYLIGHT
DTSTART;VALUE=DATE-TIME:20260329T020000
TZNAME:BST
TZOFFSETFROM:+0000
TZOFFSETTO:+0100
END:DAYLIGHT
END:VTIMEZONE
END:VCALENDAR
