BEGIN:VCALENDAR
VERSION:2.0
PRODID:-//Plone.org//NONSGML plone.app.event//EN
X-WR-TIMEZONE:Europe/London
BEGIN:VEVENT
SUMMARY:S3 Work Experience
DTSTART;VALUE=DATE:20260601
DTEND;VALUE=DATE:20260606
DTSTAMP;VALUE=DATE-TIME:20260425T195233Z
UID:6e4f1200280f46f98ad7c8d023796d07@st-pauls.ea.dundeecity.sch.uk
CREATED;VALUE=DATE-TIME:20260209T134725Z
LAST-MODIFIED;VALUE=DATE-TIME:20260209T134733Z
URL:http://st-pauls.ea.dundeecity.sch.uk/s3-work-experience-2
END:VEVENT
END:VCALENDAR
