BEGIN:VCALENDAR
VERSION:2.0
PRODID:-//Plone.org//NONSGML plone.app.event//EN
X-WR-TIMEZONE:Europe/London
BEGIN:VEVENT
SUMMARY:S3 Learning & Achievement
DTSTART;VALUE=DATE:20260223
DTEND;VALUE=DATE:20260228
DTSTAMP;VALUE=DATE-TIME:20260425T184006Z
UID:91649719ae014b2282946ec442d06dbb@st-pauls.ea.dundeecity.sch.uk
CREATED;VALUE=DATE-TIME:20250520T080503Z
DESCRIPTION:Wk Beg
LAST-MODIFIED;VALUE=DATE-TIME:20250520T080511Z
URL:http://st-pauls.ea.dundeecity.sch.uk/s3-learning-achievement-1
END:VEVENT
END:VCALENDAR
