BEGIN:VCALENDAR
VERSION:2.0
PRODID:-//Plone.org//NONSGML plone.app.event//EN
X-WR-TIMEZONE:Europe/London
BEGIN:VEVENT
SUMMARY:S1 Full Report
DTSTART;VALUE=DATE:20260513
DTEND;VALUE=DATE:20260514
DTSTAMP;VALUE=DATE-TIME:20260425T182552Z
UID:4920b506c8864818be30726ef1c79490@st-pauls.ea.dundeecity.sch.uk
CREATED;VALUE=DATE-TIME:20250520T070800Z
LAST-MODIFIED;VALUE=DATE-TIME:20250520T071013Z
URL:http://st-pauls.ea.dundeecity.sch.uk/s1-full-report
END:VEVENT
END:VCALENDAR
