BEGIN:VCALENDAR
VERSION:2.0
PRODID:-//Plone.org//NONSGML plone.app.event//EN
X-WR-TIMEZONE:Europe/London
BEGIN:VEVENT
SUMMARY:Prelims
DTSTART;VALUE=DATE:20260119
DTEND;VALUE=DATE:20260207
DTSTAMP;VALUE=DATE-TIME:20260425T214212Z
UID:1fde9bc97aeb4e029ee6f9b141ec16a4@st-pauls.ea.dundeecity.sch.uk
CREATED;VALUE=DATE-TIME:20250520T102411Z
LAST-MODIFIED;VALUE=DATE-TIME:20250520T102418Z
URL:http://st-pauls.ea.dundeecity.sch.uk/prelims-2
END:VEVENT
END:VCALENDAR
