BEGIN:VCALENDAR
VERSION:2.0
PRODID:-//Plone.org//NONSGML plone.app.event//EN
X-WR-TIMEZONE:Europe/London
BEGIN:VEVENT
SUMMARY:P7 Induction Days
DTSTART;VALUE=DATE:20260611
DTEND;VALUE=DATE:20260613
DTSTAMP;VALUE=DATE-TIME:20260425T195232Z
UID:70569b08eef74173a8291f1ff2ac4cfd@st-pauls.ea.dundeecity.sch.uk
CREATED;VALUE=DATE-TIME:20250520T110659Z
LAST-MODIFIED;VALUE=DATE-TIME:20250520T110706Z
URL:http://st-pauls.ea.dundeecity.sch.uk/p7-induction-days-1
END:VEVENT
END:VCALENDAR
