BEGIN:VCALENDAR
VERSION:2.0
PRODID:-//Plone.org//NONSGML plone.app.event//EN
X-WR-TIMEZONE:Europe/London
BEGIN:VEVENT
SUMMARY:P7 Health & Wellbeing morning
DTSTART;TZID=Europe/London;VALUE=DATE-TIME:20260506T090000
DTEND;TZID=Europe/London;VALUE=DATE-TIME:20260506T131000
DTSTAMP;VALUE=DATE-TIME:20260425T182736Z
UID:ab15156540dc4a3fb11845aa65a8ca8c@st-pauls.ea.dundeecity.sch.uk
CREATED;VALUE=DATE-TIME:20250520T105548Z
LAST-MODIFIED;VALUE=DATE-TIME:20250520T105602Z
URL:http://st-pauls.ea.dundeecity.sch.uk/p7-health-wellbeing-morning
END:VEVENT
BEGIN:VTIMEZONE
TZID:Europe/London
X-LIC-LOCATION:Europe/London
BEGIN:DAYLIGHT
DTSTART;VALUE=DATE-TIME:20260329T020000
TZNAME:BST
TZOFFSETFROM:+0000
TZOFFSETTO:+0100
END:DAYLIGHT
END:VTIMEZONE
END:VCALENDAR
