BEGIN:VCALENDAR
VERSION:2.0
PRODID:-//Plone.org//NONSGML plone.app.event//EN
X-WR-TIMEZONE:Europe/London
BEGIN:VEVENT
SUMMARY:P7 Health & Wellbeing morning
DTSTART;TZID=Europe/London;VALUE=DATE-TIME:20260513T090000
DTEND;TZID=Europe/London;VALUE=DATE-TIME:20260513T131000
DTSTAMP;VALUE=DATE-TIME:20260425T182750Z
UID:97c7df43c43a4112a76f64ef7a96670e@st-pauls.ea.dundeecity.sch.uk
CREATED;VALUE=DATE-TIME:20250520T105659Z
LAST-MODIFIED;VALUE=DATE-TIME:20250520T105705Z
URL:http://st-pauls.ea.dundeecity.sch.uk/p7-health-wellbeing-morning-1
END:VEVENT
BEGIN:VTIMEZONE
TZID:Europe/London
X-LIC-LOCATION:Europe/London
BEGIN:DAYLIGHT
DTSTART;VALUE=DATE-TIME:20260329T020000
TZNAME:BST
TZOFFSETFROM:+0000
TZOFFSETTO:+0100
END:DAYLIGHT
END:VTIMEZONE
END:VCALENDAR
