BEGIN:VCALENDAR
VERSION:2.0
PRODID:-//Plone.org//NONSGML plone.app.event//EN
X-WR-TIMEZONE:Europe/London
BEGIN:VEVENT
SUMMARY:New Timetable Starts
DTSTART;VALUE=DATE:20260601
DTEND;VALUE=DATE:20260602
DTSTAMP;VALUE=DATE-TIME:20260425T195745Z
UID:4c537426742b448d8b60e0f798eeb0a3@st-pauls.ea.dundeecity.sch.uk
CREATED;VALUE=DATE-TIME:20250520T110247Z
LAST-MODIFIED;VALUE=DATE-TIME:20250520T110254Z
URL:http://st-pauls.ea.dundeecity.sch.uk/new-timetable-starts
END:VEVENT
END:VCALENDAR
