BEGIN:VCALENDAR
VERSION:2.0
PRODID:-//Plone.org//NONSGML plone.app.event//EN
X-WR-TIMEZONE:Europe/London
BEGIN:VEVENT
SUMMARY:London Trip Parent Info Evening
DTSTART;TZID=Europe/London;VALUE=DATE-TIME:20260527T180000
DTEND;TZID=Europe/London;VALUE=DATE-TIME:20260527T190000
DTSTAMP;VALUE=DATE-TIME:20260425T182736Z
UID:98cdaf01ac244e11b1e0ad5f051aefba@st-pauls.ea.dundeecity.sch.uk
CREATED;VALUE=DATE-TIME:20250520T110056Z
LAST-MODIFIED;VALUE=DATE-TIME:20250520T110059Z
URL:http://st-pauls.ea.dundeecity.sch.uk/london-trip-parent-info-evening-1
END:VEVENT
BEGIN:VTIMEZONE
TZID:Europe/London
X-LIC-LOCATION:Europe/London
BEGIN:DAYLIGHT
DTSTART;VALUE=DATE-TIME:20260329T020000
TZNAME:BST
TZOFFSETFROM:+0000
TZOFFSETTO:+0100
END:DAYLIGHT
END:VTIMEZONE
END:VCALENDAR
