BEGIN:VCALENDAR
VERSION:2.0
PRODID:-//Plone.org//NONSGML plone.app.event//EN
X-WR-TIMEZONE:Europe/London
BEGIN:VEVENT
SUMMARY:London Trip
DTSTART;VALUE=DATE:20260629
DTEND;VALUE=DATE:20260701
DTSTAMP;VALUE=DATE-TIME:20260425T195745Z
UID:a759f6cd327a4f988b3dcd7055ef4814@st-pauls.ea.dundeecity.sch.uk
CREATED;VALUE=DATE-TIME:20250520T111220Z
LAST-MODIFIED;VALUE=DATE-TIME:20250520T111224Z
URL:http://st-pauls.ea.dundeecity.sch.uk/london-trip-2
END:VEVENT
END:VCALENDAR
