BEGIN:VCALENDAR
VERSION:2.0
PRODID:-//Plone.org//NONSGML plone.app.event//EN
X-WR-TIMEZONE:Europe/London
BEGIN:VEVENT
SUMMARY:In Service Day 5
DTSTART;VALUE=DATE:20260522
DTEND;VALUE=DATE:20260523
DTSTAMP;VALUE=DATE-TIME:20260425T182557Z
UID:aeee9b09423545869f6410abdb99eaf9@st-pauls.ea.dundeecity.sch.uk
CREATED;VALUE=DATE-TIME:20250520T105905Z
LAST-MODIFIED;VALUE=DATE-TIME:20250520T105910Z
URL:http://st-pauls.ea.dundeecity.sch.uk/in-service-day-5-1
END:VEVENT
END:VCALENDAR
