BEGIN:VCALENDAR
VERSION:2.0
PRODID:-//Plone.org//NONSGML plone.app.event//EN
X-WR-TIMEZONE:Europe/London
BEGIN:VEVENT
SUMMARY:French Trip
DTSTART;VALUE=DATE:20260622
DTEND;VALUE=DATE:20260626
DTSTAMP;VALUE=DATE-TIME:20260425T195136Z
UID:ee1877525fe14bccacda6da2f67e910f@st-pauls.ea.dundeecity.sch.uk
CREATED;VALUE=DATE-TIME:20250520T111100Z
LAST-MODIFIED;VALUE=DATE-TIME:20250520T111103Z
URL:http://st-pauls.ea.dundeecity.sch.uk/french-trip
END:VEVENT
END:VCALENDAR
