BEGIN:VCALENDAR
VERSION:2.0
PRODID:-//Plone.org//NONSGML plone.app.event//EN
X-WR-TIMEZONE:Europe/London
BEGIN:VEVENT
SUMMARY:Victoria Day Holiday
DTSTART;VALUE=DATE:20230529
DTEND;VALUE=DATE:20230530
DTSTAMP;VALUE=DATE-TIME:20260423T025459Z
UID:2ed9ebb369d8455891db859ee7a773a5@st-pauls.ea.dundeecity.sch.uk
CREATED;VALUE=DATE-TIME:20230124T135348Z
LAST-MODIFIED;VALUE=DATE-TIME:20230201T152420Z
URL:http://st-pauls.ea.dundeecity.sch.uk/events/victoria-day-school-holida
 y-1
END:VEVENT
END:VCALENDAR
