BEGIN:VCALENDAR
VERSION:2.0
PRODID:-//Plone.org//NONSGML plone.app.event//EN
X-WR-TIMEZONE:Europe/London
BEGIN:VEVENT
SUMMARY:Summer Holidays
DTSTART;VALUE=DATE:20230703
DTEND;VALUE=DATE:20230812
DTSTAMP;VALUE=DATE-TIME:20260423T001425Z
UID:dc64985517e942f9b34a832b917accf0@st-pauls.ea.dundeecity.sch.uk
CREATED;VALUE=DATE-TIME:20230124T142106Z
LAST-MODIFIED;VALUE=DATE-TIME:20230201T152420Z
URL:http://st-pauls.ea.dundeecity.sch.uk/events/summer-holidays
END:VEVENT
END:VCALENDAR
