BEGIN:VCALENDAR
VERSION:2.0
PRODID:-//Plone.org//NONSGML plone.app.event//EN
X-WR-TIMEZONE:Europe/London
BEGIN:VEVENT
SUMMARY:Start Term 4
DTSTART;VALUE=DATE:20230417
DTEND;VALUE=DATE:20230418
DTSTAMP;VALUE=DATE-TIME:20260423T013001Z
UID:d83e6f31cdbb427087e298e9d133b35b@st-pauls.ea.dundeecity.sch.uk
CREATED;VALUE=DATE-TIME:20230124T133604Z
LAST-MODIFIED;VALUE=DATE-TIME:20230201T152419Z
URL:http://st-pauls.ea.dundeecity.sch.uk/events/start-term-4
END:VEVENT
END:VCALENDAR
