BEGIN:VCALENDAR
VERSION:2.0
PRODID:-//Plone.org//NONSGML plone.app.event//EN
X-WR-TIMEZONE:Europe/London
BEGIN:VEVENT
SUMMARY:Staff Meeting 3
DTSTART;TZID=Europe/London;VALUE=DATE-TIME:20230227T154500
DTEND;TZID=Europe/London;VALUE=DATE-TIME:20230227T164500
DTSTAMP;VALUE=DATE-TIME:20260423T020244Z
UID:013c94575cfd41139ad991d49fef9f72@st-pauls.ea.dundeecity.sch.uk
CREATED;VALUE=DATE-TIME:20230124T125010Z
LAST-MODIFIED;VALUE=DATE-TIME:20230201T152419Z
URL:http://st-pauls.ea.dundeecity.sch.uk/events/staff-meeting-3
END:VEVENT
BEGIN:VTIMEZONE
TZID:Europe/London
X-LIC-LOCATION:Europe/London
BEGIN:STANDARD
DTSTART;VALUE=DATE-TIME:20221030T010000
TZNAME:GMT
TZOFFSETFROM:+0100
TZOFFSETTO:+0000
END:STANDARD
END:VTIMEZONE
END:VCALENDAR
