BEGIN:VCALENDAR
VERSION:2.0
PRODID:-//Plone.org//NONSGML plone.app.event//EN
X-WR-TIMEZONE:Europe/London
BEGIN:VEVENT
SUMMARY:St Patrick's Day
DTSTART;VALUE=DATE:20230317
DTEND;VALUE=DATE:20230318
DTSTAMP;VALUE=DATE-TIME:20260423T035938Z
UID:b753f909ba544f7b8c8e4782f008e4f0@st-pauls.ea.dundeecity.sch.uk
CREATED;VALUE=DATE-TIME:20230124T123858Z
LAST-MODIFIED;VALUE=DATE-TIME:20230201T152419Z
URL:http://st-pauls.ea.dundeecity.sch.uk/events/st-patricks-day
END:VEVENT
END:VCALENDAR
