BEGIN:VCALENDAR
VERSION:2.0
PRODID:-//Plone.org//NONSGML plone.app.event//EN
X-WR-TIMEZONE:Europe/London
BEGIN:VEVENT
SUMMARY:SQA Study Leave Starts
DTSTART;VALUE=DATE:20230502
DTEND;VALUE=DATE:20230503
DTSTAMP;VALUE=DATE-TIME:20260423T050348Z
UID:c51446f6f55a4d7f9de08f63042c6058@st-pauls.ea.dundeecity.sch.uk
CREATED;VALUE=DATE-TIME:20230124T134130Z
LAST-MODIFIED;VALUE=DATE-TIME:20230201T152420Z
URL:http://st-pauls.ea.dundeecity.sch.uk/events/sqa-study-leave-starts
END:VEVENT
END:VCALENDAR
