BEGIN:VCALENDAR
VERSION:2.0
PRODID:-//Plone.org//NONSGML plone.app.event//EN
X-WR-TIMEZONE:Europe/London
BEGIN:VEVENT
SUMMARY:SQA Exams Start
DTSTART;VALUE=DATE:20230424
DTEND;VALUE=DATE:20230425
DTSTAMP;VALUE=DATE-TIME:20260423T024305Z
UID:312fe23883754676889e5839db015101@st-pauls.ea.dundeecity.sch.uk
CREATED;VALUE=DATE-TIME:20230124T133657Z
LAST-MODIFIED;VALUE=DATE-TIME:20230201T152419Z
URL:http://st-pauls.ea.dundeecity.sch.uk/events/sqa-exams-start
END:VEVENT
END:VCALENDAR
