BEGIN:VCALENDAR
VERSION:2.0
PRODID:-//Plone.org//NONSGML plone.app.event//EN
X-WR-TIMEZONE:Europe/London
BEGIN:VEVENT
SUMMARY:Senior Phase Learning & Achievement
DTSTART;VALUE=DATE:20230306
DTEND;VALUE=DATE:20230310
DTSTAMP;VALUE=DATE-TIME:20260423T010430Z
UID:43059b380ab84ebba9bfe87b3816c5f0@st-pauls.ea.dundeecity.sch.uk
CREATED;VALUE=DATE-TIME:20230124T122627Z
LAST-MODIFIED;VALUE=DATE-TIME:20230201T152419Z
URL:http://st-pauls.ea.dundeecity.sch.uk/events/senior-phase-learning-achi
 evement
END:VEVENT
END:VCALENDAR
