BEGIN:VCALENDAR
VERSION:2.0
PRODID:-//Plone.org//NONSGML plone.app.event//EN
X-WR-TIMEZONE:Europe/London
BEGIN:VEVENT
SUMMARY:Senior Burns Supper
DTSTART;TZID=Europe/London;VALUE=DATE-TIME:20230215T190000
DTEND;TZID=Europe/London;VALUE=DATE-TIME:20230215T213000
DTSTAMP;VALUE=DATE-TIME:20260423T095044Z
UID:a674eef7db304e1b950678d8f090d064@st-pauls.ea.dundeecity.sch.uk
CREATED;VALUE=DATE-TIME:20230124T121418Z
LAST-MODIFIED;VALUE=DATE-TIME:20230201T152419Z
LOCATION:St Paul's RC Academy
URL:http://st-pauls.ea.dundeecity.sch.uk/events/senior-burns-supper
END:VEVENT
BEGIN:VTIMEZONE
TZID:Europe/London
X-LIC-LOCATION:Europe/London
BEGIN:STANDARD
DTSTART;VALUE=DATE-TIME:20221030T010000
TZNAME:GMT
TZOFFSETFROM:+0100
TZOFFSETTO:+0000
END:STANDARD
END:VTIMEZONE
END:VCALENDAR
