BEGIN:VCALENDAR
VERSION:2.0
PRODID:-//Plone.org//NONSGML plone.app.event//EN
X-WR-TIMEZONE:Europe/London
BEGIN:VEVENT
SUMMARY:School Show - Frozen Junior
DTSTART;TZID=Europe/London;VALUE=DATE-TIME:20230615T190000
DTEND;TZID=Europe/London;VALUE=DATE-TIME:20230615T213000
DTSTAMP;VALUE=DATE-TIME:20260423T002454Z
UID:5bbd00cf73214dbca3b2cd96bdbefa83@st-pauls.ea.dundeecity.sch.uk
CREATED;VALUE=DATE-TIME:20230124T141351Z
LAST-MODIFIED;VALUE=DATE-TIME:20230201T152420Z
LOCATION:St Paul's RC Academy - School Hall
URL:http://st-pauls.ea.dundeecity.sch.uk/events/school-show-frozen-junior-
 2
END:VEVENT
BEGIN:VTIMEZONE
TZID:Europe/London
X-LIC-LOCATION:Europe/London
BEGIN:DAYLIGHT
DTSTART;VALUE=DATE-TIME:20230326T020000
TZNAME:BST
TZOFFSETFROM:+0000
TZOFFSETTO:+0100
END:DAYLIGHT
END:VTIMEZONE
END:VCALENDAR
