BEGIN:VCALENDAR
VERSION:2.0
PRODID:-//Plone.org//NONSGML plone.app.event//EN
X-WR-TIMEZONE:Europe/London
BEGIN:VEVENT
SUMMARY:School Holiday
DTSTART;VALUE=DATE:20230403
DTEND;VALUE=DATE:20230408
DTSTAMP;VALUE=DATE-TIME:20260423T033910Z
UID:60a4118e217140af82c37b09637a5e45@st-pauls.ea.dundeecity.sch.uk
CREATED;VALUE=DATE-TIME:20230124T130605Z
LAST-MODIFIED;VALUE=DATE-TIME:20230201T152419Z
URL:http://st-pauls.ea.dundeecity.sch.uk/events/school-holiday
END:VEVENT
END:VCALENDAR
