BEGIN:VCALENDAR
VERSION:2.0
PRODID:-//Plone.org//NONSGML plone.app.event//EN
X-WR-TIMEZONE:Europe/London
BEGIN:VEVENT
SUMMARY:DofE S4/5 Bronze - Expedition Day
DTSTART;VALUE=DATE:20230608
DTEND;VALUE=DATE:20230609
DTSTAMP;VALUE=DATE-TIME:20260423T065216Z
UID:5f95e53a042c464f82aa105433c10dda@st-pauls.ea.dundeecity.sch.uk
CREATED;VALUE=DATE-TIME:20230303T101812Z
LAST-MODIFIED;VALUE=DATE-TIME:20230417T113216Z
URL:http://st-pauls.ea.dundeecity.sch.uk/events/s4-5-bronze-expedition
END:VEVENT
END:VCALENDAR
