BEGIN:VCALENDAR
VERSION:2.0
PRODID:-//Plone.org//NONSGML plone.app.event//EN
X-WR-TIMEZONE:Europe/London
BEGIN:VEVENT
SUMMARY:S3 Learning & Achievement
DTSTART;VALUE=DATE:20230220
DTEND;VALUE=DATE:20230224
DTSTAMP;VALUE=DATE-TIME:20260423T024641Z
UID:aff3a503d4cc4f288ee331848d9fb2c8@st-pauls.ea.dundeecity.sch.uk
CREATED;VALUE=DATE-TIME:20230124T121718Z
LAST-MODIFIED;VALUE=DATE-TIME:20230201T152419Z
URL:http://st-pauls.ea.dundeecity.sch.uk/events/s3-learning-achievement
END:VEVENT
END:VCALENDAR
