BEGIN:VCALENDAR
VERSION:2.0
PRODID:-//Plone.org//NONSGML plone.app.event//EN
X-WR-TIMEZONE:Europe/London
BEGIN:VEVENT
SUMMARY:S2 Parents Evening
DTSTART;TZID=Europe/London;VALUE=DATE-TIME:20230201T160000
DTEND;TZID=Europe/London;VALUE=DATE-TIME:20230201T180000
DTSTAMP;VALUE=DATE-TIME:20260423T094751Z
UID:062bbc8b901449ba8c4a879554afdc13@st-pauls.ea.dundeecity.sch.uk
CREATED;VALUE=DATE-TIME:20230124T120656Z
DESCRIPTION:Face-to-face.  Appointments made via School Cloud
LAST-MODIFIED;VALUE=DATE-TIME:20230124T125539Z
LOCATION:St Paul's RC Academy
URL:http://st-pauls.ea.dundeecity.sch.uk/events/s2-parents-evening
END:VEVENT
BEGIN:VTIMEZONE
TZID:Europe/London
X-LIC-LOCATION:Europe/London
BEGIN:STANDARD
DTSTART;VALUE=DATE-TIME:20221030T010000
TZNAME:GMT
TZOFFSETFROM:+0100
TZOFFSETTO:+0000
END:STANDARD
END:VTIMEZONE
END:VCALENDAR
