BEGIN:VCALENDAR
VERSION:2.0
PRODID:-//Plone.org//NONSGML plone.app.event//EN
X-WR-TIMEZONE:Europe/London
BEGIN:VEVENT
SUMMARY:S1 Parents Night
DTSTART;TZID=Europe/London;VALUE=DATE-TIME:20230510T160000
DTEND;TZID=Europe/London;VALUE=DATE-TIME:20230510T180000
DTSTAMP;VALUE=DATE-TIME:20260423T010930Z
UID:e12dc62a8b264ef781a20d1d7645261b@st-pauls.ea.dundeecity.sch.uk
CREATED;VALUE=DATE-TIME:20230124T134812Z
LAST-MODIFIED;VALUE=DATE-TIME:20230201T152420Z
URL:http://st-pauls.ea.dundeecity.sch.uk/events/s1-parents-night
END:VEVENT
BEGIN:VTIMEZONE
TZID:Europe/London
X-LIC-LOCATION:Europe/London
BEGIN:DAYLIGHT
DTSTART;VALUE=DATE-TIME:20230326T020000
TZNAME:BST
TZOFFSETFROM:+0000
TZOFFSETTO:+0100
END:DAYLIGHT
END:VTIMEZONE
END:VCALENDAR
