BEGIN:VCALENDAR
VERSION:2.0
PRODID:-//Plone.org//NONSGML plone.app.event//EN
X-WR-TIMEZONE:Europe/London
BEGIN:VEVENT
SUMMARY:Pupil Blazer Fittings
DTSTART;VALUE=DATE:20230626
DTEND;VALUE=DATE:20230627
DTSTAMP;VALUE=DATE-TIME:20260423T021521Z
UID:0da3dc6415bc4caa8fbac17b958b388b@st-pauls.ea.dundeecity.sch.uk
CREATED;VALUE=DATE-TIME:20230124T141833Z
LAST-MODIFIED;VALUE=DATE-TIME:20230201T152420Z
LOCATION:St Paul's RC Academy - School Hall
URL:http://st-pauls.ea.dundeecity.sch.uk/events/pupil-blazer-fittings
END:VEVENT
END:VCALENDAR
