BEGIN:VCALENDAR
VERSION:2.0
PRODID:-//Plone.org//NONSGML plone.app.event//EN
X-WR-TIMEZONE:Europe/London
BEGIN:VEVENT
SUMMARY:PT Meeting 3
DTSTART;TZID=Europe/London;VALUE=DATE-TIME:20230327T154500
DTEND;TZID=Europe/London;VALUE=DATE-TIME:20230327T164500
DTSTAMP;VALUE=DATE-TIME:20260423T023841Z
UID:b0c424210c344521ad59e85c0ba9c401@st-pauls.ea.dundeecity.sch.uk
CREATED;VALUE=DATE-TIME:20230124T124642Z
LAST-MODIFIED;VALUE=DATE-TIME:20230201T152419Z
URL:http://st-pauls.ea.dundeecity.sch.uk/events/pt-meeting-3
END:VEVENT
BEGIN:VTIMEZONE
TZID:Europe/London
X-LIC-LOCATION:Europe/London
BEGIN:DAYLIGHT
DTSTART;VALUE=DATE-TIME:20230326T020000
TZNAME:BST
TZOFFSETFROM:+0000
TZOFFSETTO:+0100
END:DAYLIGHT
END:VTIMEZONE
END:VCALENDAR
