BEGIN:VCALENDAR
VERSION:2.0
PRODID:-//Plone.org//NONSGML plone.app.event//EN
X-WR-TIMEZONE:Europe/London
BEGIN:VEVENT
SUMMARY:Primary 7 Induction Day
DTSTART;VALUE=DATE:20230615
DTEND;VALUE=DATE:20230616
DTSTAMP;VALUE=DATE-TIME:20260423T002148Z
UID:88dbd929cb234167853dbe99eeec7f83@st-pauls.ea.dundeecity.sch.uk
CREATED;VALUE=DATE-TIME:20230124T141448Z
LAST-MODIFIED;VALUE=DATE-TIME:20230201T152420Z
LOCATION:St Paul's RC Academy
URL:http://st-pauls.ea.dundeecity.sch.uk/events/primary-7-induction-day
END:VEVENT
END:VCALENDAR
