BEGIN:VCALENDAR
VERSION:2.0
PRODID:-//Plone.org//NONSGML plone.app.event//EN
X-WR-TIMEZONE:Europe/London
BEGIN:VEVENT
SUMMARY:Prelims
DTSTART;VALUE=DATE:20230206
DTEND;VALUE=DATE:20230210
DTSTAMP;VALUE=DATE-TIME:20260424T102652Z
UID:7cb1d4506dc84ffa9332fd4b442f05b5@st-pauls.ea.dundeecity.sch.uk
CREATED;VALUE=DATE-TIME:20230124T133437Z
LAST-MODIFIED;VALUE=DATE-TIME:20230201T152419Z
URL:http://st-pauls.ea.dundeecity.sch.uk/events/prelims
END:VEVENT
END:VCALENDAR
