BEGIN:VCALENDAR
VERSION:2.0
PRODID:-//Plone.org//NONSGML plone.app.event//EN
X-WR-TIMEZONE:Europe/London
BEGIN:VEVENT
SUMMARY:P6&P7 N5 Admin & IT Col C Assignment
DTSTART;VALUE=DATE:20230307
DTEND;VALUE=DATE:20230308
DTSTAMP;VALUE=DATE-TIME:20260423T030106Z
UID:d88125052f064389b0191ede9ec27f87@st-pauls.ea.dundeecity.sch.uk
CREATED;VALUE=DATE-TIME:20230124T122901Z
LAST-MODIFIED;VALUE=DATE-TIME:20230201T152419Z
URL:http://st-pauls.ea.dundeecity.sch.uk/events/p6-p7-n5-admin-it-col-c-as
 signment
END:VEVENT
END:VCALENDAR
