BEGIN:VCALENDAR
VERSION:2.0
PRODID:-//Plone.org//NONSGML plone.app.event//EN
X-WR-TIMEZONE:Europe/London
BEGIN:VEVENT
SUMMARY:N5 Bus Mgt assignment final submission P2&3 N5 Admin & IT Col F As
 signment
DTSTART;VALUE=DATE:20230303
DTEND;VALUE=DATE:20230304
DTSTAMP;VALUE=DATE-TIME:20260423T145903Z
UID:29f298e85d29463bb3a0c4729c8fef53@st-pauls.ea.dundeecity.sch.uk
CREATED;VALUE=DATE-TIME:20230124T122508Z
LAST-MODIFIED;VALUE=DATE-TIME:20230124T125605Z
URL:http://st-pauls.ea.dundeecity.sch.uk/events/n5-bus-mgt-assignment-fina
 l-submission-p2-3-n5-admin-it-col-f-assignment-1
END:VEVENT
END:VCALENDAR
