BEGIN:VCALENDAR
VERSION:2.0
PRODID:-//Plone.org//NONSGML plone.app.event//EN
X-WR-TIMEZONE:Europe/London
BEGIN:VEVENT
SUMMARY:Modern Studies Dept London Trip
DTSTART;VALUE=DATE:20230620
DTEND;VALUE=DATE:20230624
DTSTAMP;VALUE=DATE-TIME:20260424T102743Z
UID:9ca35499b69842929985f4c53a8ad962@st-pauls.ea.dundeecity.sch.uk
CREATED;VALUE=DATE-TIME:20230124T141745Z
LAST-MODIFIED;VALUE=DATE-TIME:20230201T152420Z
URL:http://st-pauls.ea.dundeecity.sch.uk/events/modern-studies-dept-london
 -trip
END:VEVENT
END:VCALENDAR
