BEGIN:VCALENDAR
VERSION:2.0
PRODID:-//Plone.org//NONSGML plone.app.event//EN
X-WR-TIMEZONE:Europe/London
BEGIN:VEVENT
SUMMARY:Mid-term Holiday
DTSTART;VALUE=DATE:20230213
DTEND;VALUE=DATE:20230214
DTSTAMP;VALUE=DATE-TIME:20260423T013118Z
UID:95272bbb58ae45f98bafd79d2cabedb0@st-pauls.ea.dundeecity.sch.uk
CREATED;VALUE=DATE-TIME:20230124T125350Z
LAST-MODIFIED;VALUE=DATE-TIME:20230124T125606Z
URL:http://st-pauls.ea.dundeecity.sch.uk/events/mid-term-holiday-1
END:VEVENT
END:VCALENDAR
