BEGIN:VCALENDAR
VERSION:2.0
PRODID:-//Plone.org//NONSGML plone.app.event//EN
X-WR-TIMEZONE:Europe/London
BEGIN:VEVENT
SUMMARY:May Day Holiday
DTSTART;VALUE=DATE:20230501
DTEND;VALUE=DATE:20230502
DTSTAMP;VALUE=DATE-TIME:20260423T043616Z
UID:2619354966d94dda897182bf115169c9@st-pauls.ea.dundeecity.sch.uk
CREATED;VALUE=DATE-TIME:20230124T134038Z
LAST-MODIFIED;VALUE=DATE-TIME:20230201T152420Z
URL:http://st-pauls.ea.dundeecity.sch.uk/events/may-day-holiday
END:VEVENT
END:VCALENDAR
