BEGIN:VCALENDAR
VERSION:2.0
PRODID:-//Plone.org//NONSGML plone.app.event//EN
X-WR-TIMEZONE:Europe/London
BEGIN:VEVENT
SUMMARY:Lift Off - S6 - Taking the Next Steps
DTSTART;VALUE=DATE:20230324
DTEND;VALUE=DATE:20230325
DTSTAMP;VALUE=DATE-TIME:20260423T030101Z
UID:107fbb96e0a24f36878606ffbd84f7a6@st-pauls.ea.dundeecity.sch.uk
CREATED;VALUE=DATE-TIME:20230124T124343Z
LAST-MODIFIED;VALUE=DATE-TIME:20230124T125605Z
URL:http://st-pauls.ea.dundeecity.sch.uk/events/lift-off-s6-taking-the-nex
 t-steps
END:VEVENT
END:VCALENDAR
