BEGIN:VCALENDAR
VERSION:2.0
PRODID:-//Plone.org//NONSGML plone.app.event//EN
X-WR-TIMEZONE:Europe/London
BEGIN:VEVENT
SUMMARY:Lift Off - S3 - Introduction to Higher Education
DTSTART;VALUE=DATE:20230503
DTEND;VALUE=DATE:20230504
DTSTAMP;VALUE=DATE-TIME:20260423T062543Z
UID:6dd0e0c61cd34309a517bfec28c4e360@st-pauls.ea.dundeecity.sch.uk
CREATED;VALUE=DATE-TIME:20230124T134446Z
LAST-MODIFIED;VALUE=DATE-TIME:20230201T152349Z
URL:http://st-pauls.ea.dundeecity.sch.uk/events/lift-off-s3-introduction-t
 o-higher-education
END:VEVENT
END:VCALENDAR
