BEGIN:VCALENDAR
VERSION:2.0
PRODID:-//Plone.org//NONSGML plone.app.event//EN
X-WR-TIMEZONE:Europe/London
BEGIN:VEVENT
SUMMARY:In-Service Day 5
DTSTART;VALUE=DATE:20230526
DTEND;VALUE=DATE:20230527
DTSTAMP;VALUE=DATE-TIME:20260423T050231Z
UID:4f4149756325461a84d49ba27abe259c@st-pauls.ea.dundeecity.sch.uk
CREATED;VALUE=DATE-TIME:20230124T135250Z
LAST-MODIFIED;VALUE=DATE-TIME:20230201T152349Z
URL:http://st-pauls.ea.dundeecity.sch.uk/events/in-service-day-5
END:VEVENT
END:VCALENDAR
